BEGIN:VCALENDAR
VERSION:2.0
PRODID:-//IISG - ECPv6.15.17//NONSGML v1.0//EN
CALSCALE:GREGORIAN
METHOD:PUBLISH
X-WR-CALNAME:IISG
X-ORIGINAL-URL:https://www.studigermanici.it
X-WR-CALDESC:Eventi per IISG
REFRESH-INTERVAL;VALUE=DURATION:PT1H
X-Robots-Tag:noindex
X-PUBLISHED-TTL:PT1H
BEGIN:VTIMEZONE
TZID:Europe/Rome
BEGIN:DAYLIGHT
TZOFFSETFROM:+0100
TZOFFSETTO:+0200
TZNAME:CEST
DTSTART:20240331T010000
END:DAYLIGHT
BEGIN:STANDARD
TZOFFSETFROM:+0200
TZOFFSETTO:+0100
TZNAME:CET
DTSTART:20241027T010000
END:STANDARD
BEGIN:DAYLIGHT
TZOFFSETFROM:+0100
TZOFFSETTO:+0200
TZNAME:CEST
DTSTART:20250330T010000
END:DAYLIGHT
BEGIN:STANDARD
TZOFFSETFROM:+0200
TZOFFSETTO:+0100
TZNAME:CET
DTSTART:20251026T010000
END:STANDARD
BEGIN:DAYLIGHT
TZOFFSETFROM:+0100
TZOFFSETTO:+0200
TZNAME:CEST
DTSTART:20260329T010000
END:DAYLIGHT
BEGIN:STANDARD
TZOFFSETFROM:+0200
TZOFFSETTO:+0100
TZNAME:CET
DTSTART:20261025T010000
END:STANDARD
END:VTIMEZONE
BEGIN:VEVENT
DTSTART;TZID=Europe/Rome:20251014T173000
DTEND;TZID=Europe/Rome:20251014T193000
DTSTAMP:20260421T033617
CREATED:20251010T125311Z
LAST-MODIFIED:20251010T125311Z
UID:20850-1760463000-1760470200@www.studigermanici.it
SUMMARY:Non solo Ostpolitik  | PRESENTAZIONE VOLUME
DESCRIPTION:PRESENTAZIONE DEL VOLUME \nNon solo Ostpolitik\ndi Lodovica Clavarino\, Mondadori 2024\n \nIstituto Italiano di Studi Germanici\nSala quadro\n14 ottobre 2025 \nSi prega di accreditarsi attraverso i seguenti canali: \nhttps://NonsoloOstpolitik.eventbrite.it  \nsegreteria@fondazionecraxi.org
URL:https://www.studigermanici.it/event/non-solo-ostpolitik-presentazione-volume/
LOCATION:Istituto Italiano di Studi Germanici\, Via Calandrelli\, 25\, Roma\, 00153\, Italia
CATEGORIES:Eventi,Presentazioni
ATTACH;FMTTYPE=image/png:https://www.studigermanici.it/wp-content/uploads/2025/10/Non-Solo-Ostpolitik_news.png
END:VEVENT
END:VCALENDAR