BEGIN:VCALENDAR
VERSION:2.0
PRODID:-//IISG - ECPv6.15.17//NONSGML v1.0//EN
CALSCALE:GREGORIAN
METHOD:PUBLISH
X-WR-CALNAME:IISG
X-ORIGINAL-URL:https://www.studigermanici.it
X-WR-CALDESC:Eventi per IISG
REFRESH-INTERVAL;VALUE=DURATION:PT1H
X-Robots-Tag:noindex
X-PUBLISHED-TTL:PT1H
BEGIN:VTIMEZONE
TZID:Europe/Rome
BEGIN:DAYLIGHT
TZOFFSETFROM:+0100
TZOFFSETTO:+0200
TZNAME:CEST
DTSTART:20240331T010000
END:DAYLIGHT
BEGIN:STANDARD
TZOFFSETFROM:+0200
TZOFFSETTO:+0100
TZNAME:CET
DTSTART:20241027T010000
END:STANDARD
BEGIN:DAYLIGHT
TZOFFSETFROM:+0100
TZOFFSETTO:+0200
TZNAME:CEST
DTSTART:20250330T010000
END:DAYLIGHT
BEGIN:STANDARD
TZOFFSETFROM:+0200
TZOFFSETTO:+0100
TZNAME:CET
DTSTART:20251026T010000
END:STANDARD
BEGIN:DAYLIGHT
TZOFFSETFROM:+0100
TZOFFSETTO:+0200
TZNAME:CEST
DTSTART:20260329T010000
END:DAYLIGHT
BEGIN:STANDARD
TZOFFSETFROM:+0200
TZOFFSETTO:+0100
TZNAME:CET
DTSTART:20261025T010000
END:STANDARD
END:VTIMEZONE
BEGIN:VEVENT
DTSTART;TZID=Europe/Rome:20251031T103000
DTEND;TZID=Europe/Rome:20251031T130000
DTSTAMP:20260421T021218
CREATED:20251023T212604Z
LAST-MODIFIED:20251023T212604Z
UID:20900-1761906600-1761915600@www.studigermanici.it
SUMMARY:Thomas Mann "Che il mondo mi conosca\, ma soltanto quando tutto sarà finito" | PRESENTAZIONE VOLUME
DESCRIPTION:PRESENTAZIONE VOLUME \nThomas Mann\n“Che il mondo mi conosca\, ma soltanto quando tutto sarà finito”\nIl diario come pratica quotidiana di vita \nPalermo\nOrto botanico\, Sala Lanza\n31 ottobre 2025 \nScarica il programma
URL:https://www.studigermanici.it/event/thomas-mann-che-il-mondo-mi-conosca-ma-soltanto-quando-tutto-sara-finito-presentazione-volume/
LOCATION:Orto botanico\, Sala Lanza\, Via Lincoln\, 2\, Palermo\, Italy
CATEGORIES:Eventi,Presentazioni
ATTACH;FMTTYPE=image/jpeg:https://www.studigermanici.it/wp-content/uploads/2025/10/Mann_Palermo_31ott-scaled.jpg
END:VEVENT
END:VCALENDAR