BEGIN:VCALENDAR
VERSION:2.0
PRODID:-//IISG - ECPv6.15.17//NONSGML v1.0//EN
CALSCALE:GREGORIAN
METHOD:PUBLISH
X-WR-CALNAME:IISG
X-ORIGINAL-URL:https://www.studigermanici.it
X-WR-CALDESC:Eventi per IISG
REFRESH-INTERVAL;VALUE=DURATION:PT1H
X-Robots-Tag:noindex
X-PUBLISHED-TTL:PT1H
BEGIN:VTIMEZONE
TZID:Europe/Rome
BEGIN:DAYLIGHT
TZOFFSETFROM:+0100
TZOFFSETTO:+0200
TZNAME:CEST
DTSTART:20250330T010000
END:DAYLIGHT
BEGIN:STANDARD
TZOFFSETFROM:+0200
TZOFFSETTO:+0100
TZNAME:CET
DTSTART:20251026T010000
END:STANDARD
BEGIN:DAYLIGHT
TZOFFSETFROM:+0100
TZOFFSETTO:+0200
TZNAME:CEST
DTSTART:20260329T010000
END:DAYLIGHT
BEGIN:STANDARD
TZOFFSETFROM:+0200
TZOFFSETTO:+0100
TZNAME:CET
DTSTART:20261025T010000
END:STANDARD
BEGIN:DAYLIGHT
TZOFFSETFROM:+0100
TZOFFSETTO:+0200
TZNAME:CEST
DTSTART:20270328T010000
END:DAYLIGHT
BEGIN:STANDARD
TZOFFSETFROM:+0200
TZOFFSETTO:+0100
TZNAME:CET
DTSTART:20271031T010000
END:STANDARD
END:VTIMEZONE
BEGIN:VEVENT
DTSTART;TZID=Europe/Rome:20260202T180000
DTEND;TZID=Europe/Rome:20260202T200000
DTSTAMP:20260420T215448
CREATED:20260126T010357Z
LAST-MODIFIED:20260126T010357Z
UID:21439-1770055200-1770062400@www.studigermanici.it
SUMMARY:La città dei Serpenti | PRESENTAZIONE VOLUME
DESCRIPTION:PRESENTAZIONE VOLUME \nLa cittá dei Serpenti\nLorenzo Monfregola\, Polidoro 2025 \nIstituto Italiano di Studi Germanici\nSala Quadro\n2 febbraio 2026 \n  \nNe discutono con l’autore: \nAndrea Venanzoni (RomaTre) \nElisa D’Annibale (IISG) \nIntroduce \nFederico Niglia (UniStra Perugia)
URL:https://www.studigermanici.it/event/la-citta-dei-serpenti-presentazione-volume/
LOCATION:Istituto Italiano di Studi Germanici\, Via Calandrelli\, 25\, Roma\, 00153\, Italia
CATEGORIES:Eventi,Presentazioni
ATTACH;FMTTYPE=image/png:https://www.studigermanici.it/wp-content/uploads/2026/01/Citta-serpenti_pres.png
END:VEVENT
END:VCALENDAR