BEGIN:VCALENDAR
VERSION:2.0
PRODID:-//IISG - ECPv6.15.17//NONSGML v1.0//EN
CALSCALE:GREGORIAN
METHOD:PUBLISH
X-ORIGINAL-URL:https://www.studigermanici.it
X-WR-CALDESC:Eventi per IISG
REFRESH-INTERVAL;VALUE=DURATION:PT1H
X-Robots-Tag:noindex
X-PUBLISHED-TTL:PT1H
BEGIN:VTIMEZONE
TZID:Europe/Rome
BEGIN:DAYLIGHT
TZOFFSETFROM:+0100
TZOFFSETTO:+0200
TZNAME:CEST
DTSTART:20220327T010000
END:DAYLIGHT
BEGIN:STANDARD
TZOFFSETFROM:+0200
TZOFFSETTO:+0100
TZNAME:CET
DTSTART:20221030T010000
END:STANDARD
BEGIN:DAYLIGHT
TZOFFSETFROM:+0100
TZOFFSETTO:+0200
TZNAME:CEST
DTSTART:20230326T010000
END:DAYLIGHT
BEGIN:STANDARD
TZOFFSETFROM:+0200
TZOFFSETTO:+0100
TZNAME:CET
DTSTART:20231029T010000
END:STANDARD
BEGIN:DAYLIGHT
TZOFFSETFROM:+0100
TZOFFSETTO:+0200
TZNAME:CEST
DTSTART:20240331T010000
END:DAYLIGHT
BEGIN:STANDARD
TZOFFSETFROM:+0200
TZOFFSETTO:+0100
TZNAME:CET
DTSTART:20241027T010000
END:STANDARD
BEGIN:DAYLIGHT
TZOFFSETFROM:+0100
TZOFFSETTO:+0200
TZNAME:CEST
DTSTART:20250330T010000
END:DAYLIGHT
BEGIN:STANDARD
TZOFFSETFROM:+0200
TZOFFSETTO:+0100
TZNAME:CET
DTSTART:20251026T010000
END:STANDARD
END:VTIMEZONE
BEGIN:VEVENT
DTSTART;TZID=Europe/Rome:20240119T183000
DTEND;TZID=Europe/Rome:20240119T203000
DTSTAMP:20260421T102626
CREATED:20230927T124500Z
LAST-MODIFIED:20230927T124847Z
UID:15622-1705689000-1705696200@www.studigermanici.it
SUMMARY:Filmpalast Deutschland | 7° appuntamento: Stilles Land 
DESCRIPTION:Stilles Land © iskremas Filmproduktion GmbH \n7° appuntamento: la caduta del Muro di Berlino \nStilles Land\nRegia di Andreas Dresen\, Germania 1992\, 98 min.\, versione originale con sott. it. \nLa DDR nell’autunno del 1989. All’inizio della nuova stagione il direttore di un teatro di provincia piuttosto malridotto presenta alla sua compagnia un nuovo collega: il giovane regista Kai Finke che vuole mettere in scena Aspettando Godot di Samuel Beckett. Kai si mette al lavoro con un certo entusiasmo e non si lascia intimorire dalle desolanti circostanze. Gli causa più problemi la mancanza di entusiasmo dei suoi collaboratori\, le prove vanno avanti con tenacia e indecisione. Per il regista\, tuttavia\, i paralleli fra la situazione politica e la pièce sono evidenti; egli desidera soprattutto attualizzare la disperata condizione dell’attesa. Quando Horst\, il suo attore protagonista\, gli chiede dove abbia luogo questa condizione senza via d’uscita\, nella testa o nelle circostanze\, Kai non sa dargli una risposta. Ancora i media della Repubblica Democratica Tedesca sdrammatizzano la situazione e attaccano l’Occidente. \nIntroduce Francesco Bono (Professore di Storia del cinema – Università di Perugia).\nLa proiezione sarà in lingua originale (tedesco) con sottotitoli in italiano; la discussione si svolgerà in italiano. \nIngresso gratuito fino ad esaurimento posti. Info e prenotazioni: eventi-roma@goethe.de \nScarica il programma
URL:https://www.studigermanici.it/event/filmpalast-deutschland-7-appuntamento-stilles-land/
LOCATION:Goethe-Institut Roma\, Via Savoia\, 15\, Roma\, 00198\, Italia
CATEGORIES:Eventi,Film
ATTACH;FMTTYPE=image/jpeg:https://www.studigermanici.it/wp-content/uploads/2023/09/Filmpalast-Deu_2300×1000.jpg
END:VEVENT
BEGIN:VEVENT
DTSTART;TZID=Europe/Rome:20231215T183000
DTEND;TZID=Europe/Rome:20231215T203000
DTSTAMP:20260421T102626
CREATED:20230927T122011Z
LAST-MODIFIED:20230927T124901Z
UID:15620-1702665000-1702672200@www.studigermanici.it
SUMMARY:Filmpalast Deutschland | 6° appuntamento: Die bleierne Zeit
DESCRIPTION:Die bleierne Zeit © STUDIOCANAL GmbH \n6° appuntamento: guerra fredda – BRD \nDie bleierne Zeit (tit. ital. Anni di piombo)\nRegia di Margarethe von Trotta\nGermania Ovest 1981\, 107 min.\, v.o. con sott. ital. \nAnni ’70\, Repubblica federale di Germania: Juliane incontra sua sorella Marianne\, che vive in clandestinità dopo essere stata condannata per attentato terroristico. Le due donne sono vicine ma si capiscono sempre meno. Poco dopo Marianne è in prigione e le visite di Juliane di solito finiscono in discussioni. Nel 1977 Marianne muore in prigione\, ma Juliane non riesce a credere alla versione ufficiale\, secondo la quale sua sorella si è tolta la vita volontariamente\, e vuole portare la verità alla luce. \nPer Die bleierne Zeit\, la regista Margarethe von Trotta si è ispirata alla vita della terrorista della RAF Gudrun Ensslin e di sua sorella Christiane. \nIntroduce Matteo Galli (Professore di Letteratura tedesca – Università di Firenze).\nLa proiezione sarà in lingua originale (tedesco) con sottotitoli in italiano; la discussione si svolgerà in italiano. \nIngresso gratuito fino ad esaurimento posti. Info e prenotazioni: eventi-roma@goethe.de \nScarica il programma
URL:https://www.studigermanici.it/event/filmpalast-deutschland-6-appuntamento-die-bleierne-zeit/
LOCATION:Goethe-Institut Roma\, Via Savoia\, 15\, Roma\, 00198\, Italia
CATEGORIES:Eventi,Film
ATTACH;FMTTYPE=image/jpeg:https://www.studigermanici.it/wp-content/uploads/2023/09/Filmpalast-Deu_2300×1000.jpg
END:VEVENT
BEGIN:VEVENT
DTSTART;TZID=Europe/Rome:20231201T183000
DTEND;TZID=Europe/Rome:20231201T203000
DTSTAMP:20260421T102626
CREATED:20230927T121443Z
LAST-MODIFIED:20230927T124920Z
UID:15616-1701455400-1701462600@www.studigermanici.it
SUMMARY:Filmpalast Deutschland | 5° appuntamento: Spur der Steine
DESCRIPTION:Spur der Steine © DEFA-Stiftung \n5° appuntamento: Guerra fredda – DDR \nSpur der Steine (tit. ital. La traccia delle pietre)\nRegia di Frank Beyer\nDDR 1966\, 139 min.\, b/n\, v.o. con sott. ital. \nIn un grande cantiere nella DDR\, il caposquadra Balla e i suoi uomini possono permettersi di comportarsi in modo poco ortodosso\, visto che il loro modo di lavorare è molto produttivo. Quando arrivano nel cantiere la giovane tecnica Kati e il segretario di partito Horrath\, l’equilibrio fra direzione dei lavori e maestranze inizia a vacillare. Sia Balla che Horrath si innamorano di Kati e la situazione precipita. Film DEFA. \nIntroduce Ute Weidenhiller (Professoressa di Letteratura tedesca – Tor Vergata).\nLa proiezione sarà in lingua originale (tedesco) con sottotitoli in italiano; la discussione si svolgerà in italiano. \nIngresso gratuito fino ad esaurimento posti.\nPrenotazione obbligatoria: info@casadigoethe.it \nScarica il programma
URL:https://www.studigermanici.it/event/filmpalast-deutschland-5-appuntamento-spur-der-steine/
LOCATION:Casa di Goethe\, Via del Corso 18\, Roma\, 00186\, Italia
CATEGORIES:Eventi,Film
ATTACH;FMTTYPE=image/jpeg:https://www.studigermanici.it/wp-content/uploads/2023/09/Filmpalast-Deu_2300×1000.jpg
END:VEVENT
BEGIN:VEVENT
DTSTART;TZID=Europe/Rome:20231117T183000
DTEND;TZID=Europe/Rome:20231117T203000
DTSTAMP:20260421T102626
CREATED:20230927T101159Z
LAST-MODIFIED:20230927T125104Z
UID:15612-1700245800-1700253000@www.studigermanici.it
SUMMARY:Filmpalast Deutschland | 4° appuntamento: Die Mörder sind unter uns 
DESCRIPTION:Die Mörder sind unter uns © DEFA-Stiftung\, Eugen Klagemann \n4° appuntamento: il Dopoguerra \nDie Mörder sind unter uns (tit. ital. Gli assassini sono tra noi)\nRegia di Wolfgang Staudte\nGermania 1946\, 85 min.\, b/n\, v.o. con sott. ital. \n1945: Berlino – una città sotto le macerie. Susanne Wallner ritorna dal campo di concentramento nel suo vecchio appartamento\, adesso abitato dal chirurgo Dott. Mertens. Susanne e Mertens devono condividere l’appartamento. Mertens incontra Brückner\, il suo capitano di un tempo che credeva morto. Brückner\, che durante la guerra aveva ordinato la fucilazione di più di 100 civili\, adesso è un imprenditore di successo. Mertens decide di ristabilire la giustizia. \nIntroduce Giovanni Spagnoletti (Professore di Storia del Cinema – Tor Vergata).\nLa proiezione sarà in lingua originale (tedesco) con sottotitoli in italiano; la discussione si svolgerà in italiano. \nIngresso gratuito fino ad esaurimento posti.\nInfo e prenotazioni: kuck@studigermanici.it \nScarica il programma
URL:https://www.studigermanici.it/event/filmpalast-deutschland-4-appuntamento-die-morder-sind-unter-uns/
LOCATION:Istituto Italiano di Studi Germanici\, Via Calandrelli\, 25\, Roma\, 00153\, Italia
CATEGORIES:Eventi,Film
ATTACH;FMTTYPE=image/jpeg:https://www.studigermanici.it/wp-content/uploads/2023/09/Filmpalast-Deu_2300×1000.jpg
END:VEVENT
BEGIN:VEVENT
DTSTART;TZID=Europe/Rome:20231103T183000
DTEND;TZID=Europe/Rome:20231103T203000
DTSTAMP:20260421T102626
CREATED:20230927T092103Z
LAST-MODIFIED:20230927T115825Z
UID:15609-1699036200-1699043400@www.studigermanici.it
SUMMARY:Filmpalast Deutschland | 3° appuntamento: Triumph des Willens
DESCRIPTION:Triumph des Willens © Bundesarchiv \n3° appuntamento: il regime nazista \nTriumph des Willens (tit. ital. Trionfo della volontà)\nRegia di Leni Riefenstahl\nGermania 1935\, 112 min.\, b/n\, v.o. con sott. ital. \nIl trionfo della volontà documenta il Raduno di Norimberga del Partito Nazionalsocialista Tedesco dei Lavoratori svoltosi dal 4 al 10 settembre 1934. Il film contiene estratti dei vari discorsi tenuti al raduno dai diversi leader politici del partito nazista\, principalmente brani di Adolf Hitler\, intervallati da riprese dei membri del partito. Hitler stesso commissionò il film e il suo nome compare nei titoli di testa. \nIl tema principale del film è il ritorno della Germania al ruolo di grande potenza\, con Hitler indiscusso leader tedesco portato in gloria dalla nazione. L’opera fu subito additata come uno dei migliori esempi di propaganda nella storia del cinema. Le tecniche usate dalla Riefenstahl – come le macchine da presa mobili\, l’utilizzo della fotografia aerea e di teleobiettivi per provocare distorsioni della prospettiva\, e l’innovativo uso della musica e della fotografia – valsero al film il riconoscimento di opera fra le più importanti dell’arte cinematografica. \nLa Riefenstahl vinse diversi premi\, non solo in Germania ma anche negli Stati Uniti\, in Francia\, in Svezia e altri Paesi. Il film raggiunse una notevole popolarità nel Terzo Reich e anche altrove\, e continuò a influenzare il cinema\, i documentari\, e le produzioni pubblicitarie\, al punto di sollevare domande sulla linea di divisione fra arte e moralità. \nIntroduce Giulia Iannucci (Ricercatrice IISG).\nLa proiezione sarà in lingua originale (tedesco) con sottotitoli in italiano; la discussione si svolgerà in italiano. \nIngresso gratuito fino ad esaurimento posti. Info e prenotazioni: eventi-roma@goethe.de \nScarica il programma\n 
URL:https://www.studigermanici.it/event/filmpalast-deutschland-3-appuntamento-triumph-des-willens/
LOCATION:Goethe-Institut Roma\, Via Savoia\, 15\, Roma\, 00198\, Italia
CATEGORIES:Eventi,Film
ATTACH;FMTTYPE=image/jpeg:https://www.studigermanici.it/wp-content/uploads/2023/09/Filmpalast-Deu_2300×1000.jpg
END:VEVENT
BEGIN:VEVENT
DTSTART;TZID=Europe/Rome:20231020T183000
DTEND;TZID=Europe/Rome:20231020T203000
DTSTAMP:20260421T102626
CREATED:20230927T090009Z
LAST-MODIFIED:20230927T092222Z
UID:15598-1697826600-1697833800@www.studigermanici.it
SUMMARY:Filmpalast Deutschland | 2° appuntamento: Kuhle Wampe oder Wem gehört die Welt?
DESCRIPTION:Kuhle Wampe © Absolut Medien GmbH \n2° appuntamento: Repubblica di Weimar \nKuhle Wampe oder Wem gehört die Welt?\nRegia di Slatan Dudow\nSceneggiatura: Bertolt Brecht ed Ernst Ottwald\nGermania 1932\, 70 min.\, b/n\, v.o. con sott. ital. \nBerlino nei primi anni Trenta. Una famiglia di lavoratori rischia di crollare sotto il peso della dominante crisi economica. Il figlio disoccupato si suicida. Il fidanzato della figlia\, Annie\, consiglia alla famiglia di insediarsi presso la colonia agricola di Kuhle Wampe. Annie è incinta\, ma il fidanzato vuole sottrarsi ai suoi obblighi di padre. Annie lo lascia e va a vivere a Berlino. Durante una manifestazione sportiva di operai s’incontrano nuovamente per caso. Sulla strada di ritorno s’imbattono in un bisticcio tra operai e piccoli borghesi. La lite si allarga. \nIntroduzione di Francesco Fiorentino\, Professore di Letteratura tedesca – Università Roma Tre\nLa proiezione sarà in lingua originale (tedesco) con sottotitoli in italiano; la discussione si svolgerà in italiano. \nIngresso gratuito fino ad esaurimento posti.\nInfo e prenotazioni: kuck@studigermanici.it \nScarica il programma
URL:https://www.studigermanici.it/event/filmpalast-deutschland-2-appuntamento-kuhle-wampe-oder-wem-gehort-die-welt/
LOCATION:Istituto Italiano di Studi Germanici\, Via Calandrelli\, 25\, Roma\, 00153\, Italia
CATEGORIES:Eventi,Film
ATTACH;FMTTYPE=image/jpeg:https://www.studigermanici.it/wp-content/uploads/2023/09/Filmpalast-Deu_2300×1000.jpg
END:VEVENT
BEGIN:VEVENT
DTSTART;TZID=Europe/Rome:20231013T183000
DTEND;TZID=Europe/Rome:20231013T203000
DTSTAMP:20260421T102626
CREATED:20230925T155810Z
LAST-MODIFIED:20230927T103139Z
UID:15573-1697221800-1697229000@www.studigermanici.it
SUMMARY:Filmpalast Deutschland | 1° appuntamento: Westfront 1918
DESCRIPTION:1° appuntamento: Prima Guerra Mondiale\nWestfront 1918\nRegia di G.W. Pabst\nGermania 1930\, 92 min.\, b/n\, v.o. con sott. ital.\n\nIl film contro la guerra di G. W. Pabst racconta la storia di quattro soldati tedeschi sul fronte francese nell’ultimo anno della Prima guerra mondiale. Il bavarese vede la guerra principalmente come un’avventura. Lo studente ha vissuto il suo primo grande amore con la francese Yvette. Il loro superiore\, il tenente\, sa solo una cosa: l’adempimento del dovere. Quando Karl\, il quarto della banda\, torna al fronte dopo un congedo in casa\, durante il quale ha sorpreso la moglie a letto con un macellaio\, i quattro incontrano il loro destino.\n\nIntroduzione di Martin Baumeister\, Direttore dell’Istituto Storico Germanico di Roma\n\nLa proiezione sarà in lingua originale (tedesco) con sottotitoli in italiano; la discussione si svolgerà in italiano.\n\nIngresso gratuito fino ad esaurimento posti.\nInfo e prenotazioni: kuck@studigermanici.it\n\nScarica il programma
URL:https://www.studigermanici.it/event/filmpalast-deutschland-1-appuntamento-westfront-1918/
LOCATION:Istituto Italiano di Studi Germanici\, Via Calandrelli\, 25\, Roma\, 00153\, Italia
CATEGORIES:Eventi,Film
ATTACH;FMTTYPE=image/jpeg:https://www.studigermanici.it/wp-content/uploads/2023/09/Filmpalast-Deu_2300×1000.jpg
END:VEVENT
END:VCALENDAR