BEGIN:VCALENDAR
VERSION:2.0
PRODID:-//IISG - ECPv6.15.17//NONSGML v1.0//EN
CALSCALE:GREGORIAN
METHOD:PUBLISH
X-WR-CALNAME:IISG
X-ORIGINAL-URL:https://www.studigermanici.it
X-WR-CALDESC:Eventi per IISG
REFRESH-INTERVAL;VALUE=DURATION:PT1H
X-Robots-Tag:noindex
X-PUBLISHED-TTL:PT1H
BEGIN:VTIMEZONE
TZID:Europe/Rome
BEGIN:DAYLIGHT
TZOFFSETFROM:+0100
TZOFFSETTO:+0200
TZNAME:CEST
DTSTART:20210328T010000
END:DAYLIGHT
BEGIN:STANDARD
TZOFFSETFROM:+0200
TZOFFSETTO:+0100
TZNAME:CET
DTSTART:20211031T010000
END:STANDARD
BEGIN:DAYLIGHT
TZOFFSETFROM:+0100
TZOFFSETTO:+0200
TZNAME:CEST
DTSTART:20220327T010000
END:DAYLIGHT
BEGIN:STANDARD
TZOFFSETFROM:+0200
TZOFFSETTO:+0100
TZNAME:CET
DTSTART:20221030T010000
END:STANDARD
BEGIN:DAYLIGHT
TZOFFSETFROM:+0100
TZOFFSETTO:+0200
TZNAME:CEST
DTSTART:20230326T010000
END:DAYLIGHT
BEGIN:STANDARD
TZOFFSETFROM:+0200
TZOFFSETTO:+0100
TZNAME:CET
DTSTART:20231029T010000
END:STANDARD
BEGIN:DAYLIGHT
TZOFFSETFROM:+0100
TZOFFSETTO:+0200
TZNAME:CEST
DTSTART:20240331T010000
END:DAYLIGHT
BEGIN:STANDARD
TZOFFSETFROM:+0200
TZOFFSETTO:+0100
TZNAME:CET
DTSTART:20241027T010000
END:STANDARD
END:VTIMEZONE
BEGIN:VEVENT
DTSTART;TZID=Europe/Rome:20230417T203000
DTEND;TZID=Europe/Rome:20230417T223000
DTSTAMP:20260422T023842
CREATED:20230323T171909Z
LAST-MODIFIED:20230323T172848Z
UID:14116-1681763400-1681770600@www.studigermanici.it
SUMMARY:PALLIDA MADRE\, TENERA SORELLA - Drammaturgia tedesca contemporanea al Teatro Parioli
DESCRIPTION:PALLIDA MADRE\, TENERA SORELLA\nDrammaturgia tedesca contemporanea al Teatro Parioli.\nQuattro letture sceniche a cura dell’ Istituto Italiano di Studi Germanici e Associazione Culturale Zip Zone \nProgetto con la supervisione di Piero Maccarinelli .\n3 – 5 – 17 e 19 aprile 2023 \nOre 20.30 INGRESSO LIBERO FINO AD ESAURIMENTO POSTI.\nper informazioni\nbiglietteria@ilparioli.it – TELEFONO 06 5434851\nServizio Whatsapp 3517211283 \nIl 17 aprile Lorenzo Lavia interpreterà un testo di Max Frisch\, Il conte Öderland (1951)\, introdotto da Luca Crescenzi insieme a Piero Cardano\, Federico Passi e Antonella Britti\, i giovani attori dell’Accademia Nazionale d’Arte Drammatica Silvio d’Amico\, ed il chitarrista Michelagelo Mugnai. \n 
URL:https://www.studigermanici.it/event/pallida-madre-tenera-sorella-drammaturgia-tedesca-contemporanea-al-teatro-parioli-3/
LOCATION:Teatro Parioli\, Via Giosuè Borsi\, 20\, Roma\, Italia
CATEGORIES:Eventi
END:VEVENT
BEGIN:VEVENT
DTSTART;TZID=Europe/Rome:20230405T203000
DTEND;TZID=Europe/Rome:20230405T223000
DTSTAMP:20260422T023842
CREATED:20230323T171352Z
LAST-MODIFIED:20230323T171546Z
UID:14107-1680726600-1680733800@www.studigermanici.it
SUMMARY:PALLIDA MADRE\, TENERA SORELLA - Drammaturgia tedesca contemporanea al Teatro Parioli
DESCRIPTION:PALLIDA MADRE\, TENERA SORELLA\nDrammaturgia tedesca contemporanea al Teatro Parioli.\nQuattro letture sceniche a cura dell’ Istituto Italiano di Studi Germanici e Associazione Culturale Zip Zone \nProgetto con la supervisione di Piero Maccarinelli .\n3 – 5 – 17 e 19 aprile 2023 \nOre 20.30 INGRESSO LIBERO FINO AD ESAURIMENTO POSTI.\nper informazioni\nbiglietteria@ilparioli.it – TELEFONO 06 5434851\nServizio Whatsapp 3517211283 \nNella seconda serata giovani e promettenti attori del CSCscuolanazionaledicinema interpreteranno Strage omicida\, un gioco da ragazzi (2006)\, di Thomas Freyer. \nIntrodotto da Francesco Fiorentino con Arianna Del Grosso alla consolle.
URL:https://www.studigermanici.it/event/pallida-madre-tenera-sorella-drammaturgia-tedesca-contemporanea-al-teatro-parioli-2/
LOCATION:Teatro Parioli\, Via Giosuè Borsi\, 20\, Roma\, Italia
CATEGORIES:Eventi
END:VEVENT
BEGIN:VEVENT
DTSTART;TZID=Europe/Rome:20230403T203000
DTEND;TZID=Europe/Rome:20230403T223000
DTSTAMP:20260422T023842
CREATED:20230323T165947Z
LAST-MODIFIED:20230323T171637Z
UID:14097-1680553800-1680561000@www.studigermanici.it
SUMMARY:PALLIDA MADRE\, TENERA SORELLA - Drammaturgia tedesca contemporanea al Teatro Parioli
DESCRIPTION:PALLIDA MADRE\, TENERA SORELLA\nDrammaturgia tedesca contemporanea al Teatro Parioli.\nQuattro letture sceniche a cura dell’ Istituto Italiano di Studi Germanici e Associazione Culturale Zip Zone \nProgetto con la supervisione di Piero Maccarinelli .\n3 – 5 – 17 e 19 aprile 2023 \nOre 20.30 INGRESSO LIBERO FINO AD ESAURIMENTO POSTI.\nper informazioni\nbiglietteria@ilparioli.it – TELEFONO 06 5434851\nServizio Whatsapp 3517211283 \nNella prima delle quattro serate\, si inizia con uno dei drammi di maggior successo degli ultimi anni: Terror (2015) di Ferdinand von Schirach. \nIntrodotto da Luca Crescenzi con la partecipazione di Manuela Mandracchia\, Francesco Bonomo e Riccardo Floris ed il pubblico che sarà chiamato a farsi parte attiva della piece.
URL:https://www.studigermanici.it/event/pallida-madre-tenera-sorella-drammaturgia-tedesca-contemporanea-al-teatro-parioli/
LOCATION:Teatro Parioli\, Via Giosuè Borsi\, 20\, Roma\, Italia
CATEGORIES:Eventi
END:VEVENT
BEGIN:VEVENT
DTSTART;TZID=Europe/Rome:20221216T093000
DTEND;TZID=Europe/Rome:20221217T140000
DTSTAMP:20260422T023842
CREATED:20221209T132448Z
LAST-MODIFIED:20221209T133309Z
UID:13426-1671183000-1671285600@www.studigermanici.it
SUMMARY:Conferenza generale degli studi germanici in Italia
DESCRIPTION:  \nL’Istituto Italiano di Studi Germanici convoca una conferenza generale degli studi di germanistica in Italia\nin tutti i settori disciplinari e gli ambiti della ricerca. \nLa conferenza si terrà presso il Consiglio Nazionale delle Ricerche nei giorni 16 e 17 dicembre 2022. \nScarica qui il programma completo
URL:https://www.studigermanici.it/event/conferenza-generale-degli-studi-germanici-in-italia/
CATEGORIES:Convegno,Eventi
END:VEVENT
BEGIN:VEVENT
DTSTART;TZID=Europe/Rome:20221117T093000
DTEND;TZID=Europe/Rome:20221118T180000
DTSTAMP:20260422T023842
CREATED:20221113T173022Z
LAST-MODIFIED:20221113T173022Z
UID:13289-1668677400-1668794400@www.studigermanici.it
SUMMARY:Inkommensurabilität
DESCRIPTION:
URL:https://www.studigermanici.it/event/inkommensurabilitat/
LOCATION:Istituto Italiano di Studi Germanici\, Via Calandrelli\, 25\, Roma\, 00153\, Italia
CATEGORIES:Convegno
END:VEVENT
BEGIN:VEVENT
DTSTART;TZID=Europe/Rome:20221110T090000
DTEND;TZID=Europe/Rome:20221112T130000
DTSTAMP:20260422T023842
CREATED:20221020T084231Z
LAST-MODIFIED:20221020T084231Z
UID:13103-1668070800-1668258000@www.studigermanici.it
SUMMARY:Convegno SISCALT 2022
DESCRIPTION:
URL:https://www.studigermanici.it/event/convegno-siscalt-2022/
LOCATION:Istituto Italiano di Studi Germanici\, Via Calandrelli\, 25\, Roma\, 00153\, Italia
CATEGORIES:Convegno
ATTACH;FMTTYPE=image/png:https://www.studigermanici.it/wp-content/uploads/2022/10/siscalt-quad.png
END:VEVENT
BEGIN:VEVENT
DTSTART;TZID=Europe/Rome:20221109T133000
DTEND;TZID=Europe/Rome:20221111T130000
DTSTAMP:20260422T023842
CREATED:20221031T110832Z
LAST-MODIFIED:20221031T110832Z
UID:13161-1668000600-1668171600@www.studigermanici.it
SUMMARY:PATOGRAFIE DEL MODERNO - Per una mappa astrale delle costellazioni warburghiane
DESCRIPTION:
URL:https://www.studigermanici.it/event/patografie-del-moderno-per-una-mappa-astrale-delle-costellazioni-warburghiane/
CATEGORIES:Convegno
END:VEVENT
BEGIN:VEVENT
DTSTART;TZID=Europe/Rome:20221020T090000
DTEND;TZID=Europe/Rome:20221022T130000
DTSTAMP:20260422T023842
CREATED:20221020T083353Z
LAST-MODIFIED:20221020T083353Z
UID:13100-1666256400-1666443600@www.studigermanici.it
SUMMARY:Convergenze e divergenze tra “regimi”
DESCRIPTION:
URL:https://www.studigermanici.it/event/convergenze-e-divergenze-tra-regimi/
LOCATION:Istituto Italiano di Studi Germanici\, Via Calandrelli\, 25\, Roma\, 00153\, Italia
ATTACH;FMTTYPE=image/png:https://www.studigermanici.it/wp-content/uploads/2022/10/CD-quad.png
END:VEVENT
BEGIN:VEVENT
DTSTART;TZID=Europe/Rome:20220922T200000
DTEND;TZID=Europe/Rome:20220922T220000
DTSTAMP:20260422T023842
CREATED:20220919T124442Z
LAST-MODIFIED:20220919T124442Z
UID:12503-1663876800-1663884000@www.studigermanici.it
SUMMARY:La Cantica del Mare - Progetto Davka
DESCRIPTION:
URL:https://www.studigermanici.it/event/la-cantica-del-mare-progetto-davka/
LOCATION:Istituto Italiano di Studi Germanici\, Via Calandrelli\, 25\, Roma\, 00153\, Italia
CATEGORIES:Eventi
ATTACH;FMTTYPE=image/png:https://www.studigermanici.it/wp-content/uploads/2022/09/Cantica.png
END:VEVENT
BEGIN:VEVENT
DTSTART;TZID=Europe/Rome:20220920T100000
DTEND;TZID=Europe/Rome:20220920T173000
DTSTAMP:20260422T023842
CREATED:20220915T131043Z
LAST-MODIFIED:20220915T131043Z
UID:12450-1663668000-1663695000@www.studigermanici.it
SUMMARY:20 Settembre 2022 Workshop - Le radici mediterranee dello spirito europeo
DESCRIPTION:
URL:https://www.studigermanici.it/event/20-settembre-2022-workshop-le-radici-mediterranee-dello-spirito-europeo/
LOCATION:Istituto Italiano di Studi Germanici\, Via Calandrelli\, 25\, Roma\, 00153\, Italia
CATEGORIES:Workshop
ATTACH;FMTTYPE=image/jpeg:https://www.studigermanici.it/wp-content/uploads/2022/09/IMG_3406.jpg
END:VEVENT
BEGIN:VEVENT
DTSTART;TZID=Europe/Rome:20220719T193000
DTEND;TZID=Europe/Rome:20220719T203000
DTSTAMP:20260422T023842
CREATED:20220705T101822Z
LAST-MODIFIED:20220705T103616Z
UID:11805-1658259000-1658262600@www.studigermanici.it
SUMMARY:Presentazione del volume "La fragile intesa"
DESCRIPTION:
URL:https://www.studigermanici.it/event/presentazione-del-volume-la-fragile-intesa/
LOCATION:Istituto Italiano di Studi Germanici\, Via Calandrelli\, 25\, Roma\, 00153\, Italia
CATEGORIES:Eventi,Presentazioni
ATTACH;FMTTYPE=image/png:https://www.studigermanici.it/wp-content/uploads/2022/07/IISG-Presentazione-Trapassi-e1657017350535.png
END:VEVENT
BEGIN:VEVENT
DTSTART;TZID=Europe/Rome:20220705T190000
DTEND;TZID=Europe/Rome:20220707T180000
DTSTAMP:20260422T023842
CREATED:20220628T103702Z
LAST-MODIFIED:20220628T103734Z
UID:11503-1657047600-1657216800@www.studigermanici.it
SUMMARY:Europa in der deutschen Literatur der klassischen Moderne (1880-1933)
DESCRIPTION:Europa in der deutschen Literatur der klassischen Moderne (1880-1933)\nDal 5 al 7 luglio 2022 l’Istituto Italiano di Studi Germanici ospita il convegno degli Alumni della Alexander von Humboldt Stiftung e della Deutscher Akademischer Austauschdienst. \nPer informazioni: aldo.venturelli.70@gmail.com
URL:https://www.studigermanici.it/event/europa-in-der-deutschen-literatur-der-klassischen-moderne-1880-1933/
LOCATION:Istituto Italiano di Studi Germanici\, Via Calandrelli\, 25\, Roma\, 00153\, Italia
CATEGORIES:Eventi
ATTACH;FMTTYPE=image/png:https://www.studigermanici.it/wp-content/uploads/2022/06/Convegno-Venturelli.png
END:VEVENT
BEGIN:VEVENT
DTSTART;TZID=Europe/Rome:20220704T090000
DTEND;TZID=Europe/Rome:20220704T170000
DTSTAMP:20260422T023842
CREATED:20220628T110403Z
LAST-MODIFIED:20220628T110653Z
UID:11508-1656925200-1656954000@www.studigermanici.it
SUMMARY:COSE DELLA MAGNA - Machiavelli e il mondo tedesco
DESCRIPTION:COSE DELLA MAGNA MACHIAVELLI E IL MONDO TEDESCO\nIstituto Italiano di Studi Germanici\nlunedì 4 luglio 2022 \nResponsabile scientifico: Lucio Biasiori \nlucio.biasiori@unipd.it \n*** \n\nPer partecipare in presenza si prega di inviare una richiesta di prenotazione all’indirizzo: \npresezzi@studigermanici.it \nÈ possibile seguire l’incontro da remoto al link:\nhttps://meet.google.com/gms-sfaa-tgk\nPer la partecipazione da remoto non è necessaria la prenotazione.
URL:https://www.studigermanici.it/event/cose-della-magna-machiavelli-e-il-mondo-tedesco/
LOCATION:Istituto Italiano di Studi Germanici\, Via Calandrelli\, 25\, Roma\, 00153\, Italia
CATEGORIES:Eventi
ATTACH;FMTTYPE=image/png:https://www.studigermanici.it/wp-content/uploads/2022/06/Machiavelli_4luglio.png
END:VEVENT
BEGIN:VEVENT
DTSTART;TZID=Europe/Rome:20220625T153000
DTEND;TZID=Europe/Rome:20220625T173000
DTSTAMP:20260422T023842
CREATED:20220622T092251Z
LAST-MODIFIED:20220701T141800Z
UID:11429-1656171000-1656178200@www.studigermanici.it
SUMMARY:La Costituzione europea
DESCRIPTION:Il nuovo seminario del progetto Le radici mediterranee dello spirito europeo\nInterverranno:\nOlimpia Malatesta – Ordoliberalismo\, liberalismo autoritario e costituzione economica europea\nLuca Timponelli – La costituzione europea tra contesto internazionale e questione sociale \nSarà possibile seguire il seminario su piattaforma Teams al seguente link: https://msteams.link/RPHJ \nPer info: spiritomediterraneo@gmail.com \nwww.spiritomediterraneo.com
URL:https://www.studigermanici.it/event/la-costituzione-europea/
ATTACH;FMTTYPE=image/png:https://www.studigermanici.it/wp-content/uploads/2022/06/Schermata-2022-06-22-alle-11.21.50-e1655890037277.png
END:VEVENT
BEGIN:VEVENT
DTSTART;TZID=Europe/Rome:20220622T190000
DTEND;TZID=Europe/Rome:20220622T220000
DTSTAMP:20260422T023842
CREATED:20220621T150054Z
LAST-MODIFIED:20220621T220216Z
UID:11389-1655924400-1655935200@www.studigermanici.it
SUMMARY:Parliamo di Germania con Stefano Beltrame
DESCRIPTION:
URL:https://www.studigermanici.it/event/parliamo-di-germania-con-stefano-beltrame/
LOCATION:Istituto Italiano di Studi Germanici\, Via Calandrelli\, 25\, Roma\, 00153\, Italia
CATEGORIES:Incontri
ATTACH;FMTTYPE=image/jpeg:https://www.studigermanici.it/wp-content/uploads/2022/06/1-4.jpeg
END:VEVENT
BEGIN:VEVENT
DTSTART;TZID=Europe/Rome:20220620T190000
DTEND;TZID=Europe/Rome:20220620T220000
DTSTAMP:20260422T023842
CREATED:20220622T082847Z
LAST-MODIFIED:20220622T091601Z
UID:11424-1655751600-1655762400@www.studigermanici.it
SUMMARY:Parliamo di Germania con Rino Pellino
DESCRIPTION:
URL:https://www.studigermanici.it/event/parliamo-di-germania-con-rino-pellino/
LOCATION:Istituto Italiano di Studi Germanici\, Via Calandrelli\, 25\, Roma\, 00153\, Italia
CATEGORIES:Incontri
ATTACH;FMTTYPE=image/jpeg:https://www.studigermanici.it/wp-content/uploads/2022/06/1-3.jpeg
END:VEVENT
BEGIN:VEVENT
DTSTART;TZID=Europe/Rome:20220614T190000
DTEND;TZID=Europe/Rome:20220614T220000
DTSTAMP:20260422T023842
CREATED:20220622T082747Z
LAST-MODIFIED:20220622T082747Z
UID:11422-1655233200-1655244000@www.studigermanici.it
SUMMARY:Parliamo di Germania con Paolo Valentino
DESCRIPTION:
URL:https://www.studigermanici.it/event/parliamo-di-germania-con-paolo-valentino/
LOCATION:Istituto Italiano di Studi Germanici\, Via Calandrelli\, 25\, Roma\, 00153\, Italia
CATEGORIES:Incontri
ATTACH;FMTTYPE=image/jpeg:https://www.studigermanici.it/wp-content/uploads/2022/06/2-2.jpg
END:VEVENT
END:VCALENDAR