BEGIN:VCALENDAR
VERSION:2.0
PRODID:-//IISG - ECPv6.15.17//NONSGML v1.0//EN
CALSCALE:GREGORIAN
METHOD:PUBLISH
X-WR-CALNAME:IISG
X-ORIGINAL-URL:https://www.studigermanici.it
X-WR-CALDESC:Eventi per IISG
REFRESH-INTERVAL;VALUE=DURATION:PT1H
X-Robots-Tag:noindex
X-PUBLISHED-TTL:PT1H
BEGIN:VTIMEZONE
TZID:Europe/Rome
BEGIN:DAYLIGHT
TZOFFSETFROM:+0100
TZOFFSETTO:+0200
TZNAME:CEST
DTSTART:20250330T010000
END:DAYLIGHT
BEGIN:STANDARD
TZOFFSETFROM:+0200
TZOFFSETTO:+0100
TZNAME:CET
DTSTART:20251026T010000
END:STANDARD
BEGIN:DAYLIGHT
TZOFFSETFROM:+0100
TZOFFSETTO:+0200
TZNAME:CEST
DTSTART:20260329T010000
END:DAYLIGHT
BEGIN:STANDARD
TZOFFSETFROM:+0200
TZOFFSETTO:+0100
TZNAME:CET
DTSTART:20261025T010000
END:STANDARD
BEGIN:DAYLIGHT
TZOFFSETFROM:+0100
TZOFFSETTO:+0200
TZNAME:CEST
DTSTART:20270328T010000
END:DAYLIGHT
BEGIN:STANDARD
TZOFFSETFROM:+0200
TZOFFSETTO:+0100
TZNAME:CET
DTSTART:20271031T010000
END:STANDARD
END:VTIMEZONE
BEGIN:VEVENT
DTSTART;TZID=Europe/Rome:20260422T150000
DTEND;TZID=Europe/Rome:20260422T180000
DTSTAMP:20260420T172251
CREATED:20260415T231828Z
LAST-MODIFIED:20260415T231828Z
UID:21776-1776870000-1776880800@www.studigermanici.it
SUMMARY:Attualità e criticità del pensiero di Bruno Leoni | PRESENTAZIONE VOLUME
DESCRIPTION:  \nPRESENTAZIONE VOLUME \nAttualità e criticità del pensiero di Bruno Leoni\n \nIstituto Italiano di Studi Germanici\nSala Quadro\n22 aprile 2026 \n\n\nLink al fascicolo  \nL’evento può essere seguito anche da remoto su Zoom
URL:https://www.studigermanici.it/event/attualita-e-criticita-del-pensiero-di-bruno-leoni-presentazione-volume/
LOCATION:Istituto Italiano di Studi Germanici\, Via Calandrelli\, 25\, Roma\, 00153\, Italia
CATEGORIES:Eventi,Presentazioni
END:VEVENT
END:VCALENDAR