BEGIN:VCALENDAR
VERSION:2.0
PRODID:-//IISG - ECPv6.15.17//NONSGML v1.0//EN
CALSCALE:GREGORIAN
METHOD:PUBLISH
X-ORIGINAL-URL:https://www.studigermanici.it
X-WR-CALDESC:Eventi per IISG
REFRESH-INTERVAL;VALUE=DURATION:PT1H
X-Robots-Tag:noindex
X-PUBLISHED-TTL:PT1H
BEGIN:VTIMEZONE
TZID:Europe/Rome
BEGIN:DAYLIGHT
TZOFFSETFROM:+0100
TZOFFSETTO:+0200
TZNAME:CEST
DTSTART:20230326T010000
END:DAYLIGHT
BEGIN:STANDARD
TZOFFSETFROM:+0200
TZOFFSETTO:+0100
TZNAME:CET
DTSTART:20231029T010000
END:STANDARD
BEGIN:DAYLIGHT
TZOFFSETFROM:+0100
TZOFFSETTO:+0200
TZNAME:CEST
DTSTART:20240331T010000
END:DAYLIGHT
BEGIN:STANDARD
TZOFFSETFROM:+0200
TZOFFSETTO:+0100
TZNAME:CET
DTSTART:20241027T010000
END:STANDARD
BEGIN:DAYLIGHT
TZOFFSETFROM:+0100
TZOFFSETTO:+0200
TZNAME:CEST
DTSTART:20250330T010000
END:DAYLIGHT
BEGIN:STANDARD
TZOFFSETFROM:+0200
TZOFFSETTO:+0100
TZNAME:CET
DTSTART:20251026T010000
END:STANDARD
END:VTIMEZONE
BEGIN:VEVENT
DTSTART;TZID=Europe/Rome:20240416T100000
DTEND;TZID=Europe/Rome:20240417T133000
DTSTAMP:20260421T100019
CREATED:20240408T124155Z
LAST-MODIFIED:20240408T124217Z
UID:16910-1713261600-1713360600@www.studigermanici.it
SUMMARY:Franz Kafka nach hundert Jahren | CONVEGNO
DESCRIPTION:CONVEGNO\nFranz Kafka nach hundert Jahren\n16-17 aprile 2024\nIstituto Italiano di Studi Germanici – Sala Convegni\nScarica il programma.
URL:https://www.studigermanici.it/event/franz-kafka-nach-hundert-jahren-convegno-roma/
LOCATION:Istituto Italiano di Studi Germanici\, Via Calandrelli\, 25\, Roma\, 00153\, Italia
CATEGORIES:Convegno,Eventi
END:VEVENT
BEGIN:VEVENT
DTSTART;TZID=Europe/Rome:20240129T093000
DTEND;TZID=Europe/Rome:20240130T130000
DTSTAMP:20260421T100019
CREATED:20240123T121051Z
LAST-MODIFIED:20240123T121051Z
UID:16342-1706520600-1706619600@www.studigermanici.it
SUMMARY:Franz Kafka nach hundert Jahren | CONVEGNO
DESCRIPTION:CONVEGNO\nFranz Kafka nach hundert Jahren\n29-30 gennaio 2024\nUniversità di Venezia “Ca’ Foscari” – Sala Marino Berengo\nScarica il programma.
URL:https://www.studigermanici.it/event/franz-kafka-nach-hundert-jahren-convegno/
LOCATION:Università di Venezia Ca’ Foscari\, Dorsoduro 3246\, Venezia\, VE\, 30123\, Italia
CATEGORIES:Convegno,Eventi
END:VEVENT
END:VCALENDAR